BEGIN:VCALENDAR
VERSION:2.0
PRODID:-//Vereniging Vrienden van het Airborne Museum - ECPv6.15.11//NONSGML v1.0//EN
CALSCALE:GREGORIAN
METHOD:PUBLISH
X-ORIGINAL-URL:https://staging.vriendenairbornemuseum.nl
X-WR-CALDESC:Evenementen voor Vereniging Vrienden van het Airborne Museum
REFRESH-INTERVAL;VALUE=DURATION:PT1H
X-Robots-Tag:noindex
X-PUBLISHED-TTL:PT1H
BEGIN:VTIMEZONE
TZID:Europe/Helsinki
BEGIN:DAYLIGHT
TZOFFSETFROM:+0200
TZOFFSETTO:+0300
TZNAME:EEST
DTSTART:20240331T010000
END:DAYLIGHT
BEGIN:STANDARD
TZOFFSETFROM:+0300
TZOFFSETTO:+0200
TZNAME:EET
DTSTART:20241027T010000
END:STANDARD
BEGIN:DAYLIGHT
TZOFFSETFROM:+0200
TZOFFSETTO:+0300
TZNAME:EEST
DTSTART:20250330T010000
END:DAYLIGHT
BEGIN:STANDARD
TZOFFSETFROM:+0300
TZOFFSETTO:+0200
TZNAME:EET
DTSTART:20251026T010000
END:STANDARD
BEGIN:DAYLIGHT
TZOFFSETFROM:+0200
TZOFFSETTO:+0300
TZNAME:EEST
DTSTART:20260329T010000
END:DAYLIGHT
BEGIN:STANDARD
TZOFFSETFROM:+0300
TZOFFSETTO:+0200
TZNAME:EET
DTSTART:20261025T010000
END:STANDARD
END:VTIMEZONE
BEGIN:VTIMEZONE
TZID:Europe/Amsterdam
BEGIN:DAYLIGHT
TZOFFSETFROM:+0100
TZOFFSETTO:+0200
TZNAME:CEST
DTSTART:20240331T010000
END:DAYLIGHT
BEGIN:STANDARD
TZOFFSETFROM:+0200
TZOFFSETTO:+0100
TZNAME:CET
DTSTART:20241027T010000
END:STANDARD
BEGIN:DAYLIGHT
TZOFFSETFROM:+0100
TZOFFSETTO:+0200
TZNAME:CEST
DTSTART:20250330T010000
END:DAYLIGHT
BEGIN:STANDARD
TZOFFSETFROM:+0200
TZOFFSETTO:+0100
TZNAME:CET
DTSTART:20251026T010000
END:STANDARD
BEGIN:DAYLIGHT
TZOFFSETFROM:+0100
TZOFFSETTO:+0200
TZNAME:CEST
DTSTART:20260329T010000
END:DAYLIGHT
BEGIN:STANDARD
TZOFFSETFROM:+0200
TZOFFSETTO:+0100
TZNAME:CET
DTSTART:20261025T010000
END:STANDARD
END:VTIMEZONE
BEGIN:VTIMEZONE
TZID:Europe/Paris
BEGIN:DAYLIGHT
TZOFFSETFROM:+0100
TZOFFSETTO:+0200
TZNAME:CEST
DTSTART:20230326T010000
END:DAYLIGHT
BEGIN:STANDARD
TZOFFSETFROM:+0200
TZOFFSETTO:+0100
TZNAME:CET
DTSTART:20231029T010000
END:STANDARD
BEGIN:DAYLIGHT
TZOFFSETFROM:+0100
TZOFFSETTO:+0200
TZNAME:CEST
DTSTART:20240331T010000
END:DAYLIGHT
BEGIN:STANDARD
TZOFFSETFROM:+0200
TZOFFSETTO:+0100
TZNAME:CET
DTSTART:20241027T010000
END:STANDARD
BEGIN:DAYLIGHT
TZOFFSETFROM:+0100
TZOFFSETTO:+0200
TZNAME:CEST
DTSTART:20250330T010000
END:DAYLIGHT
BEGIN:STANDARD
TZOFFSETFROM:+0200
TZOFFSETTO:+0100
TZNAME:CET
DTSTART:20251026T010000
END:STANDARD
END:VTIMEZONE
BEGIN:VEVENT
DTSTART;VALUE=DATE:20251212
DTEND;VALUE=DATE:20251213
DTSTAMP:20260420T191747
CREATED:20250415T095418Z
LAST-MODIFIED:20250415T095418Z
UID:13039-1765497600-1765583999@staging.vriendenairbornemuseum.nl
SUMMARY:Thema-avond met lezing ‘De flanken van 30 Corps’ met aansluitende borrel
DESCRIPTION:
URL:https://staging.vriendenairbornemuseum.nl/event/thema-avond-met-lezing-de-flanken-van-30-corps-met-aansluitende-borrel/
LOCATION:Airborne Museum at Hartenstein\, Utrechtseweg 232\, Oosterbeek\, Gelderland\, 6862AZ\, Netherlands
CATEGORIES:Thema-avond
ORGANIZER;CN="Activiteitencommissie VVAM":MAILTO:activiteiten@vriendenairbornemuseum.nl
END:VEVENT
BEGIN:VEVENT
DTSTART;VALUE=DATE:20251107
DTEND;VALUE=DATE:20251108
DTSTAMP:20260420T191747
CREATED:20250415T095013Z
LAST-MODIFIED:20250415T095013Z
UID:13035-1762473600-1762559999@staging.vriendenairbornemuseum.nl
SUMMARY:Thema-avond met lezing ‘Van Hartenstein tot Hostomel’ met aansluitende borrel
DESCRIPTION:
URL:https://staging.vriendenairbornemuseum.nl/event/thema-avond-met-lezing-van-hartenstein-tot-hostomel-met-aansluitende-borrel/
LOCATION:Airborne Museum at Hartenstein\, Utrechtseweg 232\, Oosterbeek\, Gelderland\, 6862AZ\, Netherlands
CATEGORIES:Thema-avond
ORGANIZER;CN="Activiteitencommissie VVAM":MAILTO:activiteiten@vriendenairbornemuseum.nl
END:VEVENT
BEGIN:VEVENT
DTSTART;TZID=Europe/Amsterdam:20250220T183000
DTEND;TZID=Europe/Amsterdam:20250220T213000
DTSTAMP:20260420T191747
CREATED:20250201T063730Z
LAST-MODIFIED:20250214T151808Z
UID:12810-1740076200-1740087000@staging.vriendenairbornemuseum.nl
SUMMARY:Thema-avond met lezing ‘Leiderschap van Brian Horrocks’ met aansluitende borrel
DESCRIPTION:De eerste thema-avond van dit jaar vindt plaats op donderdagavond 20 februari in de salon van het Airborne Museum Hartenstein. Nick Kelso zal een lezing verzorgen over de commandant XXX Corps: Brian Horrocks. De rol van dit legerkorps tijdens Operatie Market Garden\, en daarmee haar commandant\, staat in ons collectief geheugen niet al te positief te boek. Mede door de beeldvorming in o.a. A Bridge Too Far wordt deze eenheid vaak verweten te aarzelend te hebben opgetreden tijdens haar opmars over de Club Route richting Arnhem. Nick Kelso zal tijdens de lezing een genuanceerder beeld proberen te schetsen over de verrichtingen van Horrocks als commandant.\nNick Kelso heeft een ruime ervaring als gids en heeft eerder voor de VVAM een battlefieldtour over het 156th Parachute Battalion verzorgd. Hij is auteur van het boek ‘Errors of Judgement: SOE’s disaster in the Netherlands 1941-44’. \n\nDe inloop start om 18:30\, de lezing begint om 19:00 en zal duren tot ongeveer 20:30. Na afloop is er tijd om na- en bij te praten. Om 21:30 verlaten we het museum.
URL:https://staging.vriendenairbornemuseum.nl/event/leiderschap-van-brian-horrocks/
LOCATION:Airborne Museum at Hartenstein\, Utrechtseweg 232\, Oosterbeek\, Gelderland\, 6862AZ\, Netherlands
CATEGORIES:Thema-avond
ORGANIZER;CN="Activiteitencommissie VVAM":MAILTO:activiteiten@vriendenairbornemuseum.nl
END:VEVENT
BEGIN:VEVENT
DTSTART;TZID=Europe/Paris:20240517T133000
DTEND;TZID=Europe/Paris:20240517T153000
DTSTAMP:20260420T191747
CREATED:20240508T042953Z
LAST-MODIFIED:20240508T075726Z
UID:11948-1715952600-1715959800@staging.vriendenairbornemuseum.nl
SUMMARY:17 mei - Lezing door Hal Sosabowski in gemeentehuis Arnhem
DESCRIPTION:Op 17 mei van 13.30 uur tot 15.30 uur staat de Burgerzaal van het gemeentehuis in Arnhem in het teken van een eerbetoon aan de Poolse Parachutistenbrigade en hun aandeel in Operatie Market Garden. Professor Hal Sosabowski (Universiteit van West London) geeft dan een lezing over zijn overgrootvader\, generaal Stanislaw Sosabowski. \n  \nGeneraal Sosabowski was de commandant van de 1e Poolse Onafhankelijke Parachutistenbrigade. Tijdens Operatie Market Garden werd deze brigade ingezet bij Driel. De Polen probeerden vanuit Driel de Rijn over te steken om de Britse troepen te ondersteunen. Maar door hevig Duits vuur slaagde slechts een klein deel van de brigade erin de overkant te bereiken. Ondanks dit verlies leverden de Polen een onmisbare bijdrage aan de gevechten. \n \n  \nPostume onderscheiding \nStanislaw Sosabowski was vanaf het begin kritisch op het plan van Operatie Market Garden. Dit werd hem niet in dank afgenomen. Na de Slag om Arnhem werden hij en zijn brigade door de Britse veldmaarschalk Montgomery als zondebok aangewezen en kregen zij de schuld van het mislukken van de operatie. Pas in 2006 kwam er eerherstel: Sosabowski werd postuum onderscheiden met de Bronzen Leeuw en de brigade kreeg de Militaire Willemsorde toegekend. Deze Bronzen Leeuw is te zien in het Airborne Museum. \n  \nMilitaire erfenis \nMet de lezing probeert Hal Sosabowski namens zijn familie de militaire erfenis van zijn overgrootvader in ere te houden. Hij is in Nederland op verzoek van Arnhem 1944 Fellowship en de Britse ambassade. De lezing wordt georganiseerd door het Airborne Museum\, in samenwerking met de gemeente Arnhem.  \n 
URL:https://staging.vriendenairbornemuseum.nl/event/17-mei-eerbetoon-aan-poolse-parachutisten-in-gemeentehuis-arnhem/
LOCATION:Stadhuis Arnhem\, Koningstraat 38\, Koningstraat 38\, Arnhem\, Gelderland\, 6811DG\, Nederland
ATTACH;FMTTYPE=image/jpeg:https://staging.vriendenairbornemuseum.nl/wp-content/uploads/2020/11/GB_1809_1530_07-scaled.jpg
END:VEVENT
END:VCALENDAR